Workbook

Sheet Juli
A1: Budget 20XX-01-01
A4: Inkomster | B4: Budget | C4: Utfall
A5: Lön
A6: Försäljningar
A7: Övrigt
A8: Summa inkomster | B8: =SUM(B5:B7) -> 0 | C8: =SUM(C5:C7) -> 0
A11: Boendekostnader
A12: Amortering
A13: Räntor
A14: Hyra
A15: El
A16: Försäkringar LGH
A17: Bredband
A18: Övrigt
A19: Summa boendekostnader | B19: =SUM(B12:B18) -> 0 | C19: =SUM(C12:C18) -> 0
A21: Fasta kostnader
A22: TV-abonnemang
A23: CSN
A24: Facket / A-kassa
A25: Mobiltelefoni
A26: Försäkringar
A27: Avbetalningar
A28: Övriga fasta kostnader
A29: Summa fasta kostnader | B29: =SUM(B22:B28) -> 0 | C29: =SUM(C22:C28) -> 0
A31: Rörliga kostnader
A32: Livsmedel
A33: Utemat
A34: Hushållskostnader
A35: Transportkostnader
A36: Tobak & Alkohol
A37: Kläder
A38: Nöjen
A39: Övriga rörliga kostnader
A40: Summa rörliga kostnader | B40: =SUM(B32:B39) -> 0 | C40: =SUM(C32:C39) -> 0
B42: Budget | C42: Utfall | D42: Avvikelse
A43: Summa inkomster | B43: =B8 -> 0 | C43: =C8 -> 0 | D43: =(C43-B43) -> 0
A44: Summa boendekostnader | B44: =B19 -> 0 | C44: =C19 -> 0 | D44: =(B44-C44) -> 0
A45: Summa fasta kostnader | B45: =B29 -> 0 | C45: =C29 -> 0 | D45: =(B45-C45) -> 0
A46: Summa rörliga kostnader | B46: =B40 -> 0 | C46: =C40 -> 0 | D46: =(B46-C46) -> 0
A47: Summa nettokostnader | B47: =B43-B44-B45-B46 -> 0 | C47: =C43-C44-C45-C46 -> 0 | D47: =D43+D44+D45+D46 -> 0
A49: Sparande | B49: 0 | C49: 0
A50: Sparkvot | B50: =B49/B8 -> #DIV/0! | C50: =C49/C8 -> #DIV/0!

Sheet Aug
A1: Budget 20XX-01-01
A4: Inkomster | B4: Budget | C4: Utfall
A5: Lön
A6: Försäljningar
A7: Övrigt
A8: Summa inkomster | B8: =SUM(B5:B7) -> 0 | C8: =SUM(C5:C7) -> 0
A11: Boendekostnader
A12: Amortering
A13: Räntor
A14: Hyra
A15: El
A16: Försäkringar LGH
A17: Bredband
A18: Övrigt
A19: Summa boendekostnader | B19: =SUM(B12:B18) -> 0 | C19: =SUM(C12:C18) -> 0
A21: Fasta kostnader
A22: TV-abonnemang
A23: CSN
A24: Facket / A-kassa
A25: Mobiltelefoni
A26: Försäkringar
A27: Avbetalningar
A28: Övriga fasta kostnader
A29: Summa fasta kostnader | B29: =SUM(B22:B28) -> 0 | C29: =SUM(C22:C28) -> 0
A31: Rörliga kostnader
A32: Livsmedel
A33: Utemat
A34: Hushållskostnader
A35: Transportkostnader
A36: Tobak & Alkohol
A37: Kläder
A38: Nöjen
A39: Övriga rörliga kostnader
A40: Summa rörliga kostnader | B40: =SUM(B32:B39) -> 0 | C40: =SUM(C32:C39) -> 0
B42: Budget | C42: Utfall | D42: Avvikelse
A43: Summa inkomster | B43: =B8 -> 0 | C43: =C8 -> 0 | D43: =(C43-B43) -> 0
A44: Summa boendekostnader | B44: =B19 -> 0 | C44: =C19 -> 0 | D44: =(B44-C44) -> 0
A45: Summa fasta kostnader | B45: =B29 -> 0 | C45: =C29 -> 0 | D45: =(B45-C45) -> 0
A46: Summa rörliga kostnader | B46: =B40 -> 0 | C46: =C40 -> 0 | D46: =(B46-C46) -> 0
A47: Summa nettokostnader | B47: =B43-B44-B45-B46 -> 0 | C47: =C43-C44-C45-C46 -> 0 | D47: =D43+D44+D45+D46 -> 0
A49: Sparande | B49: 0 | C49: 0
A50: Sparkvot | B50: =B49/B8 -> #DIV/0! | C50: =C49/C8 -> #DIV/0!

Sheet Sept
A1: Budget 20XX-01-01
A4: Inkomster | B4: Budget | C4: Utfall
A5: Lön
A6: Försäljningar
A7: Övrigt
A8: Summa inkomster | B8: =SUM(B5:B7) -> 0 | C8: =SUM(C5:C7) -> 0
A11: Boendekostnader
A12: Amortering
A13: Räntor
A14: Hyra
A15: El
A16: Försäkringar LGH
A17: Bredband
A18: Övrigt
A19: Summa boendekostnader | B19: =SUM(B12:B18) -> 0 | C19: =SUM(C12:C18) -> 0
A21: Fasta kostnader
A22: TV-abonnemang
A23: CSN
A24: Facket / A-kassa
A25: Mobiltelefoni
A26: Försäkringar
A27: Avbetalningar
A28: Övriga fasta kostnader
A29: Summa fasta kostnader | B29: =SUM(B22:B28) -> 0 | C29: =SUM(C22:C28) -> 0
A31: Rörliga kostnader
A32: Livsmedel
A33: Utemat
A34: Hushållskostnader
A35: Transportkostnader
A36: Tobak & Alkohol
A37: Kläder
A38: Nöjen
A39: Övriga rörliga kostnader
A40: Summa rörliga kostnader | B40: =SUM(B32:B39) -> 0 | C40: =SUM(C32:C39) -> 0
B42: Budget | C42: Utfall | D42: Avvikelse
A43: Summa inkomster | B43: =B8 -> 0 | C43: =C8 -> 0 | D43: =(C43-B43) -> 0
A44: Summa boendekostnader | B44: =B19 -> 0 | C44: =C19 -> 0 | D44: =(B44-C44) -> 0
A45: Summa fasta kostnader | B45: =B29 -> 0 | C45: =C29 -> 0 | D45: =(B45-C45) -> 0
A46: Summa rörliga kostnader | B46: =B40 -> 0 | C46: =C40 -> 0 | D46: =(B46-C46) -> 0
A47: Summa nettokostnader | B47: =B43-B44-B45-B46 -> 0 | C47: =C43-C44-C45-C46 -> 0 | D47: =D43+D44+D45+D46 -> 0
A49: Sparande | B49: 0 | C49: 0
A50: Sparkvot | B50: =B49/B8 -> #DIV/0! | C50: =C49/C8 -> #DIV/0!

Sheet Okt
A1: Budget 20XX-01-01
A4: Inkomster | B4: Budget | C4: Utfall
A5: Lön
A6: Försäljningar
A7: Övrigt
A8: Summa inkomster | B8: =SUM(B5:B7) -> 0 | C8: =SUM(C5:C7) -> 0
A11: Boendekostnader
A12: Amortering
A13: Räntor
A14: Hyra
A15: El
A16: Försäkringar LGH
A17: Bredband
A18: Övrigt
A19: Summa boendekostnader | B19: =SUM(B12:B18) -> 0 | C19: =SUM(C12:C18) -> 0
A21: Fasta kostnader
A22: TV-abonnemang
A23: CSN
A24: Facket / A-kassa
A25: Mobiltelefoni
A26: Försäkringar
A27: Avbetalningar
A28: Övriga fasta kostnader
A29: Summa fasta kostnader | B29: =SUM(B22:B28) -> 0 | C29: =SUM(C22:C28) -> 0
A31: Rörliga kostnader
A32: Livsmedel
A33: Utemat
A34: Hushållskostnader
A35: Transportkostnader
A36: Tobak & Alkohol
A37: Kläder
A38: Nöjen
A39: Övriga rörliga kostnader
A40: Summa rörliga kostnader | B40: =SUM(B32:B39) -> 0 | C40: =SUM(C32:C39) -> 0
B42: Budget | C42: Utfall | D42: Avvikelse
A43: Summa inkomster | B43: =B8 -> 0 | C43: =C8 -> 0 | D43: =(C43-B43) -> 0
A44: Summa boendekostnader | B44: =B19 -> 0 | C44: =C19 -> 0 | D44: =(B44-C44) -> 0
A45: Summa fasta kostnader | B45: =B29 -> 0 | C45: =C29 -> 0 | D45: =(B45-C45) -> 0
A46: Summa rörliga kostnader | B46: =B40 -> 0 | C46: =C40 -> 0 | D46: =(B46-C46) -> 0
A47: Summa nettokostnader | B47: =B43-B44-B45-B46 -> 0 | C47: =C43-C44-C45-C46 -> 0 | D47: =D43+D44+D45+D46 -> 0
A49: Sparande | B49: 0 | C49: 0
A50: Sparkvot | B50: =B49/B8 -> #DIV/0! | C50: =C49/C8 -> #DIV/0!

Sheet Nov
A1: Budget 20XX-01-01
A4: Inkomster | B4: Budget | C4: Utfall
A5: Lön
A6: Försäljningar
A7: Övrigt
A8: Summa inkomster | B8: =SUM(B5:B7) -> 0 | C8: =SUM(C5:C7) -> 0
A11: Boendekostnader
A12: Amortering
A13: Räntor
A14: Hyra
A15: El
A16: Försäkringar LGH
A17: Bredband
A18: Övrigt
A19: Summa boendekostnader | B19: =SUM(B12:B18) -> 0 | C19: =SUM(C12:C18) -> 0
A21: Fasta kostnader
A22: TV-abonnemang
A23: CSN
A24: Facket / A-kassa
A25: Mobiltelefoni
A26: Försäkringar
A27: Avbetalningar
A28: Övriga fasta kostnader
A29: Summa fasta kostnader | B29: =SUM(B22:B28) -> 0 | C29: =SUM(C22:C28) -> 0
A31: Rörliga kostnader
A32: Livsmedel
A33: Utemat
A34: Hushållskostnader
A35: Transportkostnader
A36: Tobak & Alkohol
A37: Kläder
A38: Nöjen
A39: Övriga rörliga kostnader
A40: Summa rörliga kostnader | B40: =SUM(B32:B39) -> 0 | C40: =SUM(C32:C39) -> 0
B42: Budget | C42: Utfall | D42: Avvikelse
A43: Summa inkomster | B43: =B8 -> 0 | C43: =C8 -> 0 | D43: =(C43-B43) -> 0
A44: Summa boendekostnader | B44: =B19 -> 0 | C44: =C19 -> 0 | D44: =(B44-C44) -> 0
A45: Summa fasta kostnader | B45: =B29 -> 0 | C45: =C29 -> 0 | D45: =(B45-C45) -> 0
A46: Summa rörliga kostnader | B46: =B40 -> 0 | C46: =C40 -> 0 | D46: =(B46-C46) -> 0
A47: Summa nettokostnader | B47: =B43-B44-B45-B46 -> 0 | C47: =C43-C44-C45-C46 -> 0 | D47: =D43+D44+D45+D46 -> 0
A49: Sparande | B49: 0 | C49: 0
A50: Sparkvot | B50: =B49/B8 -> #DIV/0! | C50: =C49/C8 -> #DIV/0!

Sheet Dec
A1: Budget 20XX-01-01
A4: Inkomster | B4: Budget | C4: Utfall
A5: Lön
A6: Försäljningar
A7: Övrigt
A8: Summa inkomster | B8: =SUM(B5:B7) -> 0 | C8: =SUM(C5:C7) -> 0
A11: Boendekostnader
A12: Amortering
A13: Räntor
A14: Hyra
A15: El
A16: Försäkringar LGH
A17: Bredband
A18: Övrigt
A19: Summa boendekostnader | B19: =SUM(B12:B18) -> 0 | C19: =SUM(C12:C18) -> 0
A21: Fasta kostnader
A22: TV-abonnemang
A23: CSN
A24: Facket / A-kassa
A25: Mobiltelefoni
A26: Försäkringar
A27: Avbetalningar
A28: Övriga fasta kostnader
A29: Summa fasta kostnader | B29: =SUM(B22:B28) -> 0 | C29: =SUM(C22:C28) -> 0
A31: Rörliga kostnader
A32: Livsmedel
A33: Utemat
A34: Hushållskostnader
A35: Transportkostnader
A36: Tobak & Alkohol
A37: Kläder
A38: Nöjen
A39: Övriga rörliga kostnader
A40: Summa rörliga kostnader | B40: =SUM(B32:B39) -> 0 | C40: =SUM(C32:C39) -> 0
B42: Budget | C42: Utfall | D42: Avvikelse
A43: Summa inkomster | B43: =B8 -> 0 | C43: =C8 -> 0 | D43: =(C43-B43) -> 0
A44: Summa boendekostnader | B44: =B19 -> 0 | C44: =C19 -> 0 | D44: =(B44-C44) -> 0
A45: Summa fasta kostnader | B45: =B29 -> 0 | C45: =C29 -> 0 | D45: =(B45-C45) -> 0
A46: Summa rörliga kostnader | B46: =B40 -> 0 | C46: =C40 -> 0 | D46: =(B46-C46) -> 0
A47: Summa nettokostnader | B47: =B43-B44-B45-B46 -> 0 | C47: =C43-C44-C45-C46 -> 0 | D47: =D43+D44+D45+D46 -> 0
A49: Sparande | B49: 0 | C49: 0
A50: Sparkvot | B50: =B49/B8 -> #DIV/0! | C50: =C49/C8 -> #DIV/0!

Sheet Sammanställning
A1: Sammanställning utfall
A4: Inkomster | B4: Juli | C4: Aug | D4: Sept | E4: Okt | F4: Nov | G4: Dec | I4: Summa | L4: Indikator | M4: Mål
A5: Lön | B5: =Juli!C5 -> 0 | C5: =Aug!C5 -> 0 | D5: =Sept!C5 -> 0 | E5: =Okt!C5 -> 0 | F5: =Nov!C5 -> 0 | G5: =Dec!C5 -> 0 | I5: =SUM(B5:H5) -> 0 | L5: Faktiska inkomster | M5: =I8 -> 0
A6: Försäljningar | B6: =Juli!C6 -> 0 | C6: =Aug!C6 -> 0 | D6: =Sept!C6 -> 0 | E6: =Okt!C6 -> 0 | F6: =Nov!C6 -> 0 | G6: =Dec!C6 -> 0 | I6: =SUM(B6:H6) -> 0 | L6: Mål | M6: =Juli!B8+Aug!B8+Sept!B8+Okt!B8+Nov!B8+Dec!B8 -> 0
A7: Övrigt | B7: =Juli!C7 -> 0 | C7: =Aug!C7 -> 0 | D7: =Sept!C7 -> 0 | E7: =Okt!C7 -> 0 | F7: =Nov!C7 -> 0 | G7: =Dec!C7 -> 0 | I7: =SUM(B7:H7) -> 0 | L7: Uppnått | M7: =M5/M6 -> #DIV/0!
A8: Summa inkomster | B8: =SUM(B5:B7) -> 0 | C8: =SUM(C5:C7) -> 0 | D8: =SUM(D5:D7) -> 0 | E8: =SUM(E5:E7) -> 0 | F8: =SUM(F5:F7) -> 0 | G8: =SUM(G5:G7) -> 0 | I8: =SUM(B8:H8) -> 0
A11: Boendekostnader | L11: Indikator | M11: Mål
A12: Amortering | B12: =Juli!C12 -> 0 | C12: =Aug!C12 -> 0 | D12: =Sept!C12 -> 0 | E12: =Okt!C12 -> 0 | F12: =Nov!C12 -> 0 | G12: =Dec!C12 -> 0 | I12: =SUM(B12:H12) -> 0 | L12: Faktiska boendekostnader | M12: =I19 -> 0
A13: Räntor | B13: =Juli!C13 -> 0 | C13: =Aug!C13 -> 0 | D13: =Sept!C13 -> 0 | E13: =Okt!C13 -> 0 | F13: =Nov!C13 -> 0 | G13: =Dec!C13 -> 0 | I13: =SUM(B13:H13) -> 0 | L13: Mål | M13: =Juli!B19+Aug!B19+Sept!B19+Okt!B19+Nov!B19+Dec!B19 -> 0
A14: Hyra | B14: =Juli!C14 -> 0 | C14: =Aug!C14 -> 0 | D14: =Sept!C14 -> 0 | E14: =Okt!C14 -> 0 | F14: =Nov!C14 -> 0 | G14: =Dec!C14 -> 0 | I14: =SUM(B14:H14) -> 0 | L14: Differens | M14: =M13-M12 -> 0
A15: El | B15: =Juli!C15 -> 0 | C15: =Aug!C15 -> 0 | D15: =Sept!C15 -> 0 | E15: =Okt!C15 -> 0 | F15: =Nov!C15 -> 0 | G15: =Dec!C15 -> 0 | I15: =SUM(B15:H15) -> 0
A16: Försäkringar LGH | B16: =Juli!C16 -> 0 | C16: =Aug!C16 -> 0 | D16: =Sept!C16 -> 0 | E16: =Okt!C16 -> 0 | F16: =Nov!C16 -> 0 | G16: =Dec!C16 -> 0 | I16: =SUM(B16:H16) -> 0
A17: Bredband | B17: =Juli!C17 -> 0 | C17: =Aug!C17 -> 0 | D17: =Sept!C17 -> 0 | E17: =Okt!C17 -> 0 | F17: =Nov!C17 -> 0 | G17: =Dec!C17 -> 0 | I17: =SUM(B17:H17) -> 0
A18: Övrigt | B18: =Juli!C18 -> 0 | C18: =Aug!C18 -> 0 | D18: =Sept!C18 -> 0 | E18: =Okt!C18 -> 0 | F18: =Nov!C18 -> 0 | G18: =Dec!C18 -> 0 | I18: =SUM(B18:H18) -> 0
A19: Summa boendekostnader | B19: =SUM(B12:B18) -> 0 | C19: =SUM(C12:C18) -> 0 | D19: =SUM(D12:D18) -> 0 | E19: =SUM(E12:E18) -> 0 | F19: =SUM(F12:F18) -> 0 | G19: =SUM(G12:G18) -> 0 | I19: =SUM(B19:H19) -> 0 | J19: =I19/I8 -> #DIV/0!
A21: Fasta kostnader | L21: Indikator | M21: Mål
A22: TV-abonnemang | B22: =Juli!C22 -> 0 | C22: =Aug!C22 -> 0 | D22: =Sept!C22 -> 0 | E22: =Okt!C22 -> 0 | F22: =Nov!C22 -> 0 | G22: =Dec!C22 -> 0 | I22: =SUM(B22:H22) -> 0 | L22: Faktiska fasta kostnader | M22: =I29 -> 0
A23: CSN | B23: =Juli!C23 -> 0 | C23: =Aug!C23 -> 0 | D23: =Sept!C23 -> 0 | E23: =Okt!C23 -> 0 | F23: =Nov!C23 -> 0 | G23: =Dec!C23 -> 0 | I23: =SUM(B23:H23) -> 0 | L23: Mål | M23: =Juli!B29+Aug!B29+Sept!B29+Okt!B29+Nov!B29+Dec!B29 -> 0
A24: Facket / A-kassa | B24: =Juli!C24 -> 0 | C24: =Aug!C24 -> 0 | D24: =Sept!C24 -> 0 | E24: =Okt!C24 -> 0 | F24: =Nov!C24 -> 0 | G24: =Dec!C24 -> 0 | I24: =SUM(B24:H24) -> 0 | L24: Differens | M24: =M23-M22 -> 0
A25: Mobiltelefoni | B25: =Juli!C25 -> 0 | C25: =Aug!C25 -> 0 | D25: =Sept!C25 -> 0 | E25: =Okt!C25 -> 0 | F25: =Nov!C25 -> 0 | G25: =Dec!C25 -> 0 | I25: =SUM(B25:H25) -> 0
A26: Försäkringar | B26: =Juli!C26 -> 0 | C26: =Aug!C26 -> 0 | D26: =Sept!C26 -> 0 | E26: =Okt!C26 -> 0 | F26: =Nov!C26 -> 0 | G26: =Dec!C26 -> 0 | I26: =SUM(B26:H26) -> 0
A27: Avbetalningar | B27: =Juli!C27 -> 0 | C27: =Aug!C27 -> 0 | D27: =Sept!C27 -> 0 | E27: =Okt!C27 -> 0 | F27: =Nov!C27 -> 0 | G27: =Dec!C27 -> 0 | I27: =SUM(B27:H27) -> 0
A28: Övriga fasta kostnader | B28: =Juli!C28 -> 0 | C28: =Aug!C28 -> 0 | D28: =Sept!C28 -> 0 | E28: =Okt!C28 -> 0 | F28: =Nov!C28 -> 0 | G28: =Dec!C28 -> 0 | I28: =SUM(B28:H28) -> 0
A29: Summa fasta kostnader | B29: =SUM(B22:B28) -> 0 | C29: =SUM(C22:C28) -> 0 | D29: =SUM(D22:D28) -> 0 | E29: =SUM(E22:E28) -> 0 | F29: =SUM(F22:F28) -> 0 | G29: =SUM(G22:G28) -> 0 | I29: =SUM(B29:H29) -> 0 | J29: =I29/I8 -> #DIV/0!
A31: Rörliga kostnader | L31: Indikator | M31: Mål
A32: Livsmedel | B32: =Juli!C32 -> 0 | C32: =Aug!C32 -> 0 | D32: =Sept!C32 -> 0 | E32: =Okt!C32 -> 0 | F32: =Nov!C32 -> 0 | G32: =Dec!C32 -> 0 | I32: =SUM(B32:H32) -> 0 | L32: Faktiska rörlika kostnader | M32: =I40 -> 0
A33: Utemat | B33: =Juli!C33 -> 0 | C33: =Aug!C33 -> 0 | D33: =Sept!C33 -> 0 | E33: =Okt!C33 -> 0 | F33: =Nov!C33 -> 0 | G33: =Dec!C33 -> 0 | I33: =SUM(B33:H33) -> 0 | L33: Mål | M33: =Juli!B40+Aug!B40+Sept!B40+Okt!B40+Nov!B40+Dec!B40 -> 0
A34: Hushållskostnader | B34: =Juli!C34 -> 0 | C34: =Aug!C34 -> 0 | D34: =Sept!C34 -> 0 | E34: =Okt!C34 -> 0 | F34: =Nov!C34 -> 0 | G34: =Dec!C34 -> 0 | I34: =SUM(B34:H34) -> 0 | L34: Differens | M34: =M33-M32 -> 0
A35: Transportkostnader | B35: =Juli!C35 -> 0 | C35: =Aug!C35 -> 0 | D35: =Sept!C35 -> 0 | E35: =Okt!C35 -> 0 | F35: =Nov!C35 -> 0 | G35: =Dec!C35 -> 0 | I35: =SUM(B35:H35) -> 0
A36: Tobak & Alkohol | B36: =Juli!C36 -> 0 | C36: =Aug!C36 -> 0 | D36: =Sept!C36 -> 0 | E36: =Okt!C36 -> 0 | F36: =Nov!C36 -> 0 | G36: =Dec!C36 -> 0 | I36: =SUM(B36:H36) -> 0
A37: Kläder | B37: =Juli!C37 -> 0 | C37: =Aug!C37 -> 0 | D37: =Sept!C37 -> 0 | E37: =Okt!C37 -> 0 | F37: =Nov!C37 -> 0 | G37: =Dec!C37 -> 0 | I37: =SUM(B37:H37) -> 0
A38: Nöjen | B38: =Juli!C38 -> 0 | C38: =Aug!C38 -> 0 | D38: =Sept!C38 -> 0 | E38: =Okt!C38 -> 0 | F38: =Nov!C38 -> 0 | G38: =Dec!C38 -> 0 | I38: =SUM(B38:H38) -> 0
A39: Övriga rörliga kostnader | B39: =Juli!C39 -> 0 | C39: =Aug!C39 -> 0 | D39: =Sept!C39 -> 0 | E39: =Okt!C39 -> 0 | F39: =Nov!C39 -> 0 | G39: =Dec!C39 -> 0 | I39: =SUM(B39:H39) -> 0
A40: Summa rörliga kostnader | B40: =SUM(B32:B39) -> 0 | C40: =SUM(C32:C39) -> 0 | D40: =SUM(D32:D39) -> 0 | E40: =SUM(E32:E39) -> 0 | F40: =SUM(F32:F39) -> 0 | G40: =SUM(G32:G39) -> 0 | I40: =SUM(B40:H40) -> 0 | J40: =I40/I8 -> #DIV/0!
B42: =B4 -> Juli | C42: =C4 -> Aug | D42: =D4 -> Sept | E42: =E4 -> Okt | F42: =F4 -> Nov | G42: =G4 -> Dec | I42: Summa
A43: Summa inkomster | B43: =B8 -> 0 | C43: =C8 -> 0 | D43: =D8 -> 0 | E43: =E8 -> 0 | F43: =F8 -> 0 | G43: =G8 -> 0 | I43: =SUM(B43:H43) -> 0
A44: Summa boendekostnader | B44: =B19 -> 0 | C44: =C19 -> 0 | D44: =D19 -> 0 | E44: =E19 -> 0 | F44: =F19 -> 0 | G44: =G19 -> 0 | I44: =SUM(B44:H44) -> 0
A45: Summa fasta kostnader | B45: =B29 -> 0 | C45: =C29 -> 0 | D45: =D29 -> 0 | E45: =E29 -> 0 | F45: =F29 -> 0 | G45: =G29 -> 0 | I45: =SUM(B45:H45) -> 0
A46: Summa rörliga kostnader | B46: =B40 -> 0 | C46: =C40 -> 0 | D46: =D40 -> 0 | E46: =E40 -> 0 | F46: =F40 -> 0 | G46: =G40 -> 0 | I46: =SUM(B46:H46) -> 0 | L46: Indikator | M46: Mål
A47: Summa nettokostnader | B47: =B43-B44-B45-B46 -> 0 | C47: =C43-C44-C45-C46 -> 0 | D47: =D43-D44-D45-D46 -> 0 | E47: =E43-E44-E45-E46 -> 0 | F47: =F43-F44-F45-F46 -> 0 | G47: =G43-G44-G45-G46 -> 0 | I47: =SUM(B47:H47) -> 0 | L47: Faktiskt sparande | M47: =I49 -> 0
L48: Målsparande | M48: =Juli!B49+Aug!B49+Sept!B49+Okt!B49+Nov!B49+Dec!B49 -> 0
A49: Sparande | B49: =Juli!C49 -> 0 | C49: =Aug!C49 -> 0 | D49: =Sept!C49 -> 0 | E49: =Okt!C49 -> 0 | F49: =Nov!C49 -> 0 | G49: =Dec!C49 -> 0 | I49: =SUM(B49:G49) -> 0 | L49: Uppnått | M49: =M47/M48 -> #DIV/0!
A50: Sparkvot | B50: =B49/B8 -> #DIV/0! | C50: =C49/C8 -> #DIV/0! | D50: =D49/D8 -> #DIV/0! | E50: =E49/E8 -> #DIV/0! | F50: =F49/F8 -> #DIV/0! | G50: =G49/G8 -> #DIV/0! | I50: =I49/I8 -> #DIV/0!
